BEGIN:VCALENDAR
VERSION:2.0
PRODID:-//The Brauer Institute for Holistic Medicine - ECPv6.15.20//NONSGML v1.0//EN
CALSCALE:GREGORIAN
METHOD:PUBLISH
X-WR-CALNAME:The Brauer Institute for Holistic Medicine
X-ORIGINAL-URL:https://brauerinstitute.com
X-WR-CALDESC:Events for The Brauer Institute for Holistic Medicine
REFRESH-INTERVAL;VALUE=DURATION:PT1H
X-Robots-Tag:noindex
X-PUBLISHED-TTL:PT1H
BEGIN:VTIMEZONE
TZID:America/New_York
BEGIN:DAYLIGHT
TZOFFSETFROM:-0500
TZOFFSETTO:-0400
TZNAME:EDT
DTSTART:20250309T070000
END:DAYLIGHT
BEGIN:STANDARD
TZOFFSETFROM:-0400
TZOFFSETTO:-0500
TZNAME:EST
DTSTART:20251102T060000
END:STANDARD
BEGIN:DAYLIGHT
TZOFFSETFROM:-0500
TZOFFSETTO:-0400
TZNAME:EDT
DTSTART:20260308T070000
END:DAYLIGHT
BEGIN:STANDARD
TZOFFSETFROM:-0400
TZOFFSETTO:-0500
TZNAME:EST
DTSTART:20261101T060000
END:STANDARD
BEGIN:DAYLIGHT
TZOFFSETFROM:-0500
TZOFFSETTO:-0400
TZNAME:EDT
DTSTART:20270314T070000
END:DAYLIGHT
BEGIN:STANDARD
TZOFFSETFROM:-0400
TZOFFSETTO:-0500
TZNAME:EST
DTSTART:20271107T060000
END:STANDARD
END:VTIMEZONE
BEGIN:VEVENT
DTSTART;TZID=America/New_York:20260716T173000
DTEND;TZID=America/New_York:20260716T183000
DTSTAMP:20260420T001503
CREATED:20260213T211614Z
LAST-MODIFIED:20260213T211640Z
UID:8702-1784223000-1784226600@brauerinstitute.com
SUMMARY:Sound Bath Meditation in the Garden
DESCRIPTION:Empowered Living Series – The Art of Living Well \nStep into your Power. Live your Best Life. Thrive.  \nSound Bath Meditation in the Garden\nThursday\, July 16. 2026\, 5:30 – 6:30 pm \nOpen your Heart \nNewest scientific research shows that the heart contains around 40.000 brain-like cells called sensory neurites\, which can store information independently from the brain. The electrical field of the heart is a 100 times stronger than the brain’s electrical field and the magnetic field is 5000 times stronger. \nYou are invited to shift your focus back from your brain to your heart-center in order to regain balance and inner peace. Learn to open your heart and experience the power of love and self-love. \nDorit Brauer’s Sound Bath Meditation was filmed for an Associated Press Interview about her approach to Living Spirituality.\nJoin Dorit Brauer as she provides the education and the tools that you need to live your best life by optimizing your health and achieving an in-depth understanding between body\, mind and spirit. The Guided Meditation is accompanied by a ‘Sound Bath’ – the relaxing sound of Quartz Crystal Singing Bowls – which induce alpha wave level activity of the brain\, balance the hemispheres of the brain and resonate within every cell of your body\, creating health\, balance\, and harmony. Please bring a mat and blanket and wear comfortable clothing. \nBio: Dorit Brauer is the founder and owner of the Brauer Institute for Holistic Medicine. She began her Holistic Medicine career in the US at the Center for Integrative Medicine at UPMC in 1998. In 2016\, she received the Immigrant Entrepreneur Award by Global Pittsburgh in recognition of her achievements and enriching the Pittsburgh region with her talent and tenacity since her arrival.  \nFee: Member $30 – Non-Member $35 \nSound Bath Meditation students relax deeply during a segment about Dorit Brauer filmed for the Associated Press.\nThis program takes place outdoors. Please dress for the weather and wear comfortable shoes. Pittsburgh Botanic Garden has topography\, but most hills are moderate. Walking to and from the sound bath meditation area is about 1 mile or less. Be sure to bring a mat and/or blanket and/or folding chair for grassy places. 
URL:https://brauerinstitute.com/event/sound-bath-meditation-garden-2/
LOCATION:Pittsburgh Botanic Garden\, 799 Pinkerton Run Rd\, Oakdale\, PA\, 15071\, United States
CATEGORIES:Meditation in the Garden
ATTACH;FMTTYPE=image/jpeg:https://brauerinstitute.com/wp-content/uploads/2026/02/unnamed.jpeg
END:VEVENT
END:VCALENDAR