BEGIN:VCALENDAR
VERSION:2.0
PRODID:-//The Brauer Institute for Holistic Medicine - ECPv6.15.20//NONSGML v1.0//EN
CALSCALE:GREGORIAN
METHOD:PUBLISH
X-WR-CALNAME:The Brauer Institute for Holistic Medicine
X-ORIGINAL-URL:https://brauerinstitute.com
X-WR-CALDESC:Events for The Brauer Institute for Holistic Medicine
REFRESH-INTERVAL;VALUE=DURATION:PT1H
X-Robots-Tag:noindex
X-PUBLISHED-TTL:PT1H
BEGIN:VTIMEZONE
TZID:America/New_York
BEGIN:DAYLIGHT
TZOFFSETFROM:-0500
TZOFFSETTO:-0400
TZNAME:EDT
DTSTART:20250309T070000
END:DAYLIGHT
BEGIN:STANDARD
TZOFFSETFROM:-0400
TZOFFSETTO:-0500
TZNAME:EST
DTSTART:20251102T060000
END:STANDARD
BEGIN:DAYLIGHT
TZOFFSETFROM:-0500
TZOFFSETTO:-0400
TZNAME:EDT
DTSTART:20260308T070000
END:DAYLIGHT
BEGIN:STANDARD
TZOFFSETFROM:-0400
TZOFFSETTO:-0500
TZNAME:EST
DTSTART:20261101T060000
END:STANDARD
BEGIN:DAYLIGHT
TZOFFSETFROM:-0500
TZOFFSETTO:-0400
TZNAME:EDT
DTSTART:20270314T070000
END:DAYLIGHT
BEGIN:STANDARD
TZOFFSETFROM:-0400
TZOFFSETTO:-0500
TZNAME:EST
DTSTART:20271107T060000
END:STANDARD
END:VTIMEZONE
BEGIN:VEVENT
DTSTART;TZID=America/New_York:20260324T190000
DTEND;TZID=America/New_York:20260324T203000
DTSTAMP:20260419T184159
CREATED:20260222T173220Z
LAST-MODIFIED:20260222T173433Z
UID:8732-1774378800-1774384200@brauerinstitute.com
SUMMARY:Manifest Your Destiny - 10 week ONLINE Meditation Course
DESCRIPTION:online: 10-Week Kabbalah Meditation Course\nYou are invited to join a 10-week exploration of the Kabbalistic Tree of Life. The wisdom of Kabbalah is the wisdom to receive. The Kabbalistic Tree of Life is a Roadmap to Enlightenment. \n\nExperience the power of the 10 spheres\, the forces that govern the world\nLearn to live consciously\nFind your purpose\nBecome the creator of your reality\nStrengthen and trust your intuitive perception\nDevelop your sixth sense\nLearn to create absolute harmony and interconnectedness\nEnter a level of existence where you experience eternity and perfection\nCreate miracles in your life\n\nComprehensive class material will be e-mailed following each lesson for your at home study.\n \nStudents who completed Dorit’s meditation classes at the Center for Integrative Medicine at UPMC and at Highmark Blue Cross Blue Shield experienced the following benefits: \n\n75% improved sleep\n74% decreased pain\n82% improved concentration and energy level\n92% decreased anxiety\n100% improved well-being and ability to cope with stress\n\nYou can expect to experience these positive benefits from this course. \nClasses take place every Tuesday starting March 24. to May 26. 2026\nfrom 7 – 8:30 pm EST\n  \nOnline\nVia Zoom Invitation upon receiving your payment. \n$ 565 USD \n\n\n  \n\n \n  \nPlease be inspired by the testimonials and see how a meditation course with Dorit will benefit you: \nLinda\nThank you\, Dorit. Thank you for all you have done and continue to do to transform our lives in so many ways. I am sure that this is not an ending\, but a continuation and manifestation of all the seeds you have planted in us.\nThe journey these ten weeks has been greater than I could have imagined. Life-changing really.\nMarian\nThank you Dorit!  I loved every meditation\, and enjoyed every class.  Kabbalah is much richer and real to me now\, and I am excited about the insights and changes I’m experiencing.  I have a much more embodied sense of ease\, happiness and newness.  It’s a big beautiful world\, and you are a bright light. \nMary\nThanks for the awesome 10 weeks\, Dorit!  Dreams are coming true! \nRead more testimonials! \nContact Dorit Brauer for more info. \nCancellation and Refund Policy: No refunds are available for online courses. It is the responsibility of the student to appear in class on the correct day and hour without additional notice.
URL:https://brauerinstitute.com/event/manifest-your-destiny-2026/
CATEGORIES:Manifest Your Destiny Kabbalah Course,Online Class
ATTACH;FMTTYPE=image/jpeg:https://brauerinstitute.com/wp-content/uploads/2020/03/IMG_6121-scaled-e1584460870860.jpg
END:VEVENT
END:VCALENDAR