BEGIN:VCALENDAR
VERSION:2.0
PRODID:-//The Brauer Institute for Holistic Medicine - ECPv6.15.20//NONSGML v1.0//EN
CALSCALE:GREGORIAN
METHOD:PUBLISH
X-ORIGINAL-URL:https://brauerinstitute.com
X-WR-CALDESC:Events for The Brauer Institute for Holistic Medicine
REFRESH-INTERVAL;VALUE=DURATION:PT1H
X-Robots-Tag:noindex
X-PUBLISHED-TTL:PT1H
BEGIN:VTIMEZONE
TZID:America/New_York
BEGIN:DAYLIGHT
TZOFFSETFROM:-0500
TZOFFSETTO:-0400
TZNAME:EDT
DTSTART:20230312T070000
END:DAYLIGHT
BEGIN:STANDARD
TZOFFSETFROM:-0400
TZOFFSETTO:-0500
TZNAME:EST
DTSTART:20231105T060000
END:STANDARD
BEGIN:DAYLIGHT
TZOFFSETFROM:-0500
TZOFFSETTO:-0400
TZNAME:EDT
DTSTART:20240310T070000
END:DAYLIGHT
BEGIN:STANDARD
TZOFFSETFROM:-0400
TZOFFSETTO:-0500
TZNAME:EST
DTSTART:20241103T060000
END:STANDARD
BEGIN:DAYLIGHT
TZOFFSETFROM:-0500
TZOFFSETTO:-0400
TZNAME:EDT
DTSTART:20250309T070000
END:DAYLIGHT
BEGIN:STANDARD
TZOFFSETFROM:-0400
TZOFFSETTO:-0500
TZNAME:EST
DTSTART:20251102T060000
END:STANDARD
END:VTIMEZONE
BEGIN:VEVENT
DTSTART;TZID=America/New_York:20240713T100000
DTEND;TZID=America/New_York:20240713T120000
DTSTAMP:20260423T160427
CREATED:20240525T192911Z
LAST-MODIFIED:20240613T122554Z
UID:7637-1720864800-1720872000@brauerinstitute.com
SUMMARY:Wheels of Power - Chakra Balancing Workshop
DESCRIPTION:Empowered Living Series – The Art of Living Well\nStep into your Power. Live your Best Life. Thrive. \nWheels of Power – Chakra Balancing Sound Bath Meditation Workshop\n\nActivate your Energetic and Metaphysical Power Centers.\nAchieve Inner Balance and Equilibrium.\nCommunicate with your Higher Self.\nStep Into your Bliss.\nLearn to heal yourself.\nBalance your body\, mind and spirit utilizing the colors of the rainbow.\nDeepen the understanding of the specific needs of your body and mind.\nCreate a Vision for your Bright and Brilliant Future.\n\nThe guided meditation is accompanied by a ‘Sound Bath’ – the relaxing sound of Quartz Crystal Singing Bowls\, which induce alpha wave level activity of the brain\, balance the hemispheres of the brain and resonate within every cell of your body\, creating health\, balance\, and harmony. \nPlease bring mat and blanket and wear comfortable clothing. \nSpace is limited.\nEarly registration til July 10: $115\,-\n\n\n\n\nRegistration after July 10: $135\,- \nSystematic evaluations of Dorit Brauer’s classes were conducted as she taught for Highmark Blue Cross Blue Shield and at the Center for Integrative Medicine at the University of Pittsburgh Medical Center in Pittsburgh\, Pennsylvania. Students who completed her courses experienced the following benefits: \n\n75% improved sleep\n74% reported decreased pain\n82% improved concentration and energy level\n92% decreased anxiety\n100% improved well-being and ability to cope with stress\n\nLearn how this workshop may benefit you. Read the Meditation Testimonials. \n \n  \nAbout the Teacher:\nDorit Brauer is an award-winning artist and author. She is the founder and owner of the Brauer Institute for Holistic Medicine. In 2016 she received the Immigrant Entrepreneur Award by Global Pittsburgh\, in recognition of her achievements and enriching the Pittsburgh region with her talent and tenacity since her arrival in 1998. \nLearn more:\nThe Art of Living Well \nArtist & Author
URL:https://brauerinstitute.com/event/wheels-of-power/
LOCATION:The Brauer Institute for Holistic Medicine\, 300 Mt. Lebanon Blvd. Suite 220\, Pittsburgh\, PA\, 15234\, United States
CATEGORIES:Sound Bath Meditation Workshop
ATTACH;FMTTYPE=image/jpeg:https://brauerinstitute.com/wp-content/uploads/2020/03/IMG_6121-scaled-e1584460870860.jpg
ORGANIZER;CN="Dorit Brauer":MAILTO:dorit@doritbrauer.com
END:VEVENT
BEGIN:VEVENT
DTSTART;TZID=America/New_York:20240727T100000
DTEND;TZID=America/New_York:20240727T140000
DTSTAMP:20260423T160427
CREATED:20240525T195734Z
LAST-MODIFIED:20240725T211108Z
UID:7652-1722074400-1722088800@brauerinstitute.com
SUMMARY:Ancestral Power - Family Trauma Healing Workshop
DESCRIPTION:Empowered Living Series – The Art of Living Well\nStep into your Power. Live your Best Life. Thrive. \nExperience the Power of Ancestral Healing\nRemove your blocks to Radiant Health\, Happiness\, Joy\, Wealth\, Love and True Fulfillment.\nThe Trans-Generational Healing Workshop offers a solution-based approach to healing. It allows you to connect to your roots and reveals the hidden dynamics in your family of origin. Difficult fates and traumatic experiences in previous generations may continue to create havoc as a hidden pattern in the present generation. Learn to reveal the secrets and mysteries in your family of origin\, heal and let the love flow. Transcend your Family Trauma into your Personal Strength. \nHow can a Family Constellation help you?\nEvery family experiences drama\, trauma and tragedies. Some common family trauma includes consequences of: \n\nEarly & Premature Deaths\nOstracized Family Members\nChildren of Separated or Divorced Parents\nAdopted Children\nAbortions\, Miscarriages and Stillborn Children\nDescendants of Minorities or Slaves\nWar\, Holocaust & Terrorism Survivors\n\nA Trans-Generational Healing workshop assists you in resolving the unhealthy entanglements with your family\, thus enabling you to experience inner peace and the freedom to live a healthy\, happy and fulfilled life. \nWhat does a Family Constellation look like?\nThe client chooses members from the group to represent some of their family members. When tuned into the system\, these representatives feel the effects of the family dynamics. The facilitator works with the representatives to restore balance\, respect\, dignity and love between all members of the family. Everyone attending the seminar is able to feel the effect of these entanglements — and the peace that results from their resolution. \n \nThe guided Ancestral Strength meditation is accompanied by a ‘Sound Bath’ – the relaxing sound of Quartz Crystal Singing Bowls\, which induce alpha wave level activity of the brain\, balance the hemispheres of the brain and resonate within every cell of your body\, creating health\, balance\, and harmony. \n \n\nSpace is limited to 10 Participants.\nEarly registration til July 24: $235\,-\nRegistration Closed.\n\n \n\nRegistration after July 24: $265\,- \nPlease read the testimonials and learn how a Family Constellation can help you:\nLinda \n“Dorit\, I must tell you that I have had a big and amazing surprise in my life\, which came directly out of my work with you. \nMy youngest sister has been doing some genealogy research\, and in late December she connected with my dad’s half-brother\, whom Dad never knew! Dad was always looking for this younger brother\, but had never met him and didn’t know his whereabouts. Now I’m daily exchanging emails with my newly found Uncle Mike\, and there is much joy in this relationship! \nWe’re planning a family reunion here in mid-March\, where we’ll meet Uncle Mike and his two grown children and their families. My son Richard\, his wife\, and their children will be here\, too–including our dear\, oldest granddaughter\, Sandra\, who is now 19 and living with Richard and his family. When I was working with you\, Sandra lived in Washington\, and we rarely got to see her; now she lives down the street! And Uncle Mike will once again meet his half-sister—my Aunt—whom he last saw when he was three and she was 20. He has been trying to locate her for many years. My Aunt is now 92. \nI feel Mom and Dad looking over my shoulders\, even as I write to you. \nDorit\, I’m grateful to you for all the Family Constellation work that we were able to do together. I know for certain that all of that work has continued to make shifts for me and my family. There are so many familial things that have now come into harmony. I am truly blessed in many\, many ways that I didn’t perceive as possible in those days when you and I first met. With love and gratitude\, Linda” \nMichelle L.\, Pittsburgh\, PA \nTwo years ago an important idea occurred to me to honor my grandmother. I had participated in Dorit’s family constellation workshops and had done work to see my ancestors and honor them. But I wanted to do more. With the recent passing of my grandmother in 2011\, it occurred to me that there should be an app that you could use from your phone to record a loved one’s personal stories\, take photos and document their lives\, before it’s too late. I felt a deep passion for the idea\, but due to family and work commitments I wasn’t able to bring it to fruition myself. \nOne year later\, a new company walked into my place of employment for business services with a very similar idea. I now work for that company. Through Dorit’s teaching\, I believe strongly in the power of our ancestors. I believe strongly that we have the ability to manifest positive destinies for ourselves. All you need to do is attract it into your world with positive and loving thoughts. This whole notion would have seemed idealistic and silly to me prior to working with Dorit. \nRead more testimonials. \nRead The Power of Ancestral Healing and learn about Dorit’s Family
URL:https://brauerinstitute.com/event/family-trauma-healing/
LOCATION:The Brauer Institute for Holistic Medicine\, 300 Mt. Lebanon Blvd. Suite 220\, Pittsburgh\, PA\, 15234\, United States
CATEGORIES:Systemic Family Constellations
ATTACH;FMTTYPE=image/jpeg:https://brauerinstitute.com/wp-content/uploads/2020/03/IMG_6121-scaled-e1584460870860.jpg
ORGANIZER;CN="Dorit Brauer":MAILTO:dorit@doritbrauer.com
END:VEVENT
END:VCALENDAR