BEGIN:VCALENDAR
VERSION:2.0
PRODID:-//The Brauer Institute for Holistic Medicine - ECPv6.15.20//NONSGML v1.0//EN
CALSCALE:GREGORIAN
METHOD:PUBLISH
X-WR-CALNAME:The Brauer Institute for Holistic Medicine
X-ORIGINAL-URL:https://brauerinstitute.com
X-WR-CALDESC:Events for The Brauer Institute for Holistic Medicine
REFRESH-INTERVAL;VALUE=DURATION:PT1H
X-Robots-Tag:noindex
X-PUBLISHED-TTL:PT1H
BEGIN:VTIMEZONE
TZID:America/New_York
BEGIN:DAYLIGHT
TZOFFSETFROM:-0500
TZOFFSETTO:-0400
TZNAME:EDT
DTSTART:20220313T070000
END:DAYLIGHT
BEGIN:STANDARD
TZOFFSETFROM:-0400
TZOFFSETTO:-0500
TZNAME:EST
DTSTART:20221106T060000
END:STANDARD
BEGIN:DAYLIGHT
TZOFFSETFROM:-0500
TZOFFSETTO:-0400
TZNAME:EDT
DTSTART:20230312T070000
END:DAYLIGHT
BEGIN:STANDARD
TZOFFSETFROM:-0400
TZOFFSETTO:-0500
TZNAME:EST
DTSTART:20231105T060000
END:STANDARD
BEGIN:DAYLIGHT
TZOFFSETFROM:-0500
TZOFFSETTO:-0400
TZNAME:EDT
DTSTART:20240310T070000
END:DAYLIGHT
BEGIN:STANDARD
TZOFFSETFROM:-0400
TZOFFSETTO:-0500
TZNAME:EST
DTSTART:20241103T060000
END:STANDARD
END:VTIMEZONE
BEGIN:VEVENT
DTSTART;TZID=America/New_York:20231011T170000
DTEND;TZID=America/New_York:20231011T210000
DTSTAMP:20260424T074303
CREATED:20221122T165313Z
LAST-MODIFIED:20221122T165313Z
UID:6617-1697043600-1697058000@brauerinstitute.com
SUMMARY:Professional Holistic Reflexology Certification Program
DESCRIPTION:Embark on a fulfilling career path in the fast growing field of Holistic Medicine!\nEnrollment for the 2023/2024 Holistic Reflexology Certification Program has begun. \n300 Hours – 200 class room hours\, 100 home study hours \nDorit Brauer brings the most comprehensive knowledge of Holistic Reflexology from Israel to the US. \n \nProgram Content:\n\nThe Holistic View of the World\nBasic Principles of Holistic Foot Reflexology\nRequirements for the Holistic Reflexologist\nAnatomy of the Bodily Systems\nEnergy Medicine\nMapping the Feet\nRelaxation & Stress Reduction Techniques\nHands-on-Study\nCase Studies\nSpecific Applications: Holistic Reflexology for chronic pain\, migraine headaches\, digestive disorders\, PMS\, hypertension\, allergies\, insomnia\, depression\, sinus problems\, stress\, menopause\, fibromyalgia\, infertility\, plantar fasciitis and more.\nPatient Intake\nFoot-Analysis\nThe Ancestral Connection\nReading the Feet\nThe Individual Treatment Plan\nPrecautions & Ethics\n\nStarting Wednesday\, October 11. 2023 from 5 – 9 pm for 50 lessons\nLocation: Carnegie\, PA\nLearn about the Holistic Approach. Please read the following articles: \nCourse Content \nHolistic Reflexology\, Ancestral Strength & the Power of Strong Roots \nListen to the Language of your Organs \nThe Excitement of Practicing Reflexology and its Results  \nCertification Testimonials \nCall Dorit Brauer for details and student requirements: 412 – 925 – 0812
URL:https://brauerinstitute.com/event/reflexology-certification-23/
LOCATION:PA
CATEGORIES:Reflexology Certification
ATTACH;FMTTYPE=image/jpeg:https://brauerinstitute.com/wp-content/uploads/2020/03/fullsizeoutput_2adb-scaled-e1583162187564.jpeg
ORGANIZER;CN="Dorit Brauer":MAILTO:dorit@doritbrauer.com
END:VEVENT
BEGIN:VEVENT
DTSTART;TZID=America/New_York:20231022T101500
DTEND;TZID=America/New_York:20231022T134500
DTSTAMP:20260424T074303
CREATED:20230826T151621Z
LAST-MODIFIED:20230826T151621Z
UID:6937-1697969700-1697982300@brauerinstitute.com
SUMMARY:Family Constellation - Ancestral Healing Workshop
DESCRIPTION:Experience the Power of Ancestral Healing\nStep into the River of Life. Let the Love Flow.\nThe Trans-Generational Healing Workshop offers a solution-based approach to healing. It allows you to connect to your roots and reveals the hidden dynamics in your family of origin. Difficult fates and traumatic experiences in previous generations may continue to create havoc as a hidden pattern in the present generation. Learn to reveal the secrets and mysteries in your family of origin\, heal and let the love flow. \nHow can a Family Constellation help you?\nEvery family experiences drama\, trauma and tragedies. Some common family trauma includes consequences of: \n\nEarly & Premature Deaths\nOstracized Family Members\nChildren of Separated or Divorced Parents\nAdopted Children\nAbortions\, Miscarriages and Stillborn Children\nDescendants of Minorities or Slaves\nWar\, Holocaust & Terrorism Survivors\n\nA Trans-Generational Healing workshop assists you in resolving the unhealthy entanglements with your family\, thus enabling you to experience inner peace and the freedom to live a healthy\, happy and fulfilled life. \nWhat does a Family Constellation look like?\nThe client chooses members from the group to represent some of their family members. When tuned into the system\, these representatives feel the effects of the family dynamics. The facilitator works with the representatives to restore balance\, respect\, dignity and love between all members of the family. Everyone attending the seminar is able to feel the effect of these entanglements — and the peace that results from their resolution. \n \nThe guided Ancestral Strength meditation is accompanied by a ‘Sound Bath’ – the relaxing sound of Quartz Crystal Singing Bowls\, which induce alpha wave level activity of the brain\, balance the hemispheres of the brain and resonate within every cell of your body\, creating health\, balance\, and harmony. \nPre-Register Here!\n\n\n\n\nSpace is limited.\n \nPlease read the testimonials and learn how a Family Constellation can help you:\nLinda \n“Dorit\, I must tell you that I have had a big and amazing surprise in my life\, which came directly out of my work with you. \nMy youngest sister has been doing some genealogy research\, and in late December she connected with my dad’s half-brother\, whom Dad never knew! Dad was always looking for this younger brother\, but had never met him and didn’t know his whereabouts. Now I’m daily exchanging emails with my newly found Uncle Mike\, and there is much joy in this relationship! \nWe’re planning a family reunion here in mid-March\, where we’ll meet Uncle Mike and his two grown children and their families. My son Richard\, his wife\, and their children will be here\, too–including our dear\, oldest granddaughter\, Sandra\, who is now 19 and living with Richard and his family. When I was working with you\, Sandra lived in Washington\, and we rarely got to see her; now she lives down the street! And Uncle Mike will once again meet his half-sister—my Aunt—whom he last saw when he was three and she was 20. He has been trying to locate her for many years. My Aunt is now 92. \nI feel Mom and Dad looking over my shoulders\, even as I write to you. \nDorit\, I’m grateful to you for all the Family Constellation work that we were able to do together. I know for certain that all of that work has continued to make shifts for me and my family. There are so many familial things that have now come into harmony. I am truly blessed in many\, many ways that I didn’t perceive as possible in those days when you and I first met. With love and gratitude\, Linda” \nMichelle L.\, Pittsburgh\, PA \nTwo years ago an important idea occurred to me to honor my grandmother. I had participated in Dorit’s family constellation workshops and had done work to see my ancestors and honor them. But I wanted to do more. With the recent passing of my grandmother in 2011\, it occurred to me that there should be an app that you could use from your phone to record a loved one’s personal stories\, take photos and document their lives\, before it’s too late. I felt a deep passion for the idea\, but due to family and work commitments I wasn’t able to bring it to fruition myself. \nOne year later\, a new company walked into my place of employment for business services with a very similar idea. I now work for that company. Through Dorit’s teaching\, I believe strongly in the power of our ancestors. I believe strongly that we have the ability to manifest positive destinies for ourselves. All you need to do is attract it into your world with positive and loving thoughts. This whole notion would have seemed idealistic and silly to me prior to working with Dorit. \nRead more testimonials. \nPre-Register Here!\n\n\n\n\nSpace is limited.
URL:https://brauerinstitute.com/event/ancestralhealingpgh/
LOCATION:Moxie Mind and Body (Downtown location)\, 24 Market Place 2nd Floor\, Pittsburgh\, PA\, 15222\, United States
CATEGORIES:Systemic Family Constellations,Workshop
ATTACH;FMTTYPE=image/jpeg:https://brauerinstitute.com/wp-content/uploads/2015/01/1024-destinies.jpg
ORGANIZER;CN="Dorit Brauer":MAILTO:dorit@doritbrauer.com
END:VEVENT
END:VCALENDAR