BEGIN:VCALENDAR
VERSION:2.0
PRODID:-//The Brauer Institute for Holistic Medicine - ECPv6.15.20//NONSGML v1.0//EN
CALSCALE:GREGORIAN
METHOD:PUBLISH
X-WR-CALNAME:The Brauer Institute for Holistic Medicine
X-ORIGINAL-URL:https://brauerinstitute.com
X-WR-CALDESC:Events for The Brauer Institute for Holistic Medicine
REFRESH-INTERVAL;VALUE=DURATION:PT1H
X-Robots-Tag:noindex
X-PUBLISHED-TTL:PT1H
BEGIN:VTIMEZONE
TZID:America/New_York
BEGIN:DAYLIGHT
TZOFFSETFROM:-0500
TZOFFSETTO:-0400
TZNAME:EDT
DTSTART:20240310T070000
END:DAYLIGHT
BEGIN:STANDARD
TZOFFSETFROM:-0400
TZOFFSETTO:-0500
TZNAME:EST
DTSTART:20241103T060000
END:STANDARD
BEGIN:DAYLIGHT
TZOFFSETFROM:-0500
TZOFFSETTO:-0400
TZNAME:EDT
DTSTART:20250309T070000
END:DAYLIGHT
BEGIN:STANDARD
TZOFFSETFROM:-0400
TZOFFSETTO:-0500
TZNAME:EST
DTSTART:20251102T060000
END:STANDARD
BEGIN:DAYLIGHT
TZOFFSETFROM:-0500
TZOFFSETTO:-0400
TZNAME:EDT
DTSTART:20260308T070000
END:DAYLIGHT
BEGIN:STANDARD
TZOFFSETFROM:-0400
TZOFFSETTO:-0500
TZNAME:EST
DTSTART:20261101T060000
END:STANDARD
END:VTIMEZONE
BEGIN:VEVENT
DTSTART;TZID=America/New_York:20250517T100000
DTEND;TZID=America/New_York:20250517T150000
DTSTAMP:20260421T012900
CREATED:20250419T184748Z
LAST-MODIFIED:20250421T214309Z
UID:8229-1747476000-1747494000@brauerinstitute.com
SUMMARY:Transformative Trauma Workshop - Cancer Wellness Event
DESCRIPTION:Cancer Wellness Event by Faith & Gratitude\nTransformative Trauma Workshop\nSound Bath Guided Meditation & Family Constellations\nDiscover powerful techniques to identify and remove the blockages that hinder your emotional\, mental and physical well-being. \n\nDeal with Stress\, Limiting Beliefs or Past Trauma\nUnderstand Tools to Release Obstacles\nFoster a Deeper Sense of Balance and Renewal\n\n \nRegister Here.\nHealthy Lunch included. \nFree to Individuals on a Cancer Healing Journey and their Supporters. \nAll other Attendees – $20 Donation at the door
URL:https://brauerinstitute.com/event/transformative-trauma-workshop/
LOCATION:The Westmoreland Museum of American Art\, 221 N. Main Street\, Greensburg\, PA\, 15601\, United States
CATEGORIES:Workshop
ATTACH;FMTTYPE=image/jpeg:https://brauerinstitute.com/wp-content/uploads/2025/04/Image.jpeg
ORGANIZER;CN="Dorit Brauer":MAILTO:dorit@doritbrauer.com
END:VEVENT
END:VCALENDAR