BEGIN:VCALENDAR
VERSION:2.0
PRODID:-//The Brauer Institute for Holistic Medicine - ECPv6.15.20//NONSGML v1.0//EN
CALSCALE:GREGORIAN
METHOD:PUBLISH
X-WR-CALNAME:The Brauer Institute for Holistic Medicine
X-ORIGINAL-URL:https://brauerinstitute.com
X-WR-CALDESC:Events for The Brauer Institute for Holistic Medicine
REFRESH-INTERVAL;VALUE=DURATION:PT1H
X-Robots-Tag:noindex
X-PUBLISHED-TTL:PT1H
BEGIN:VTIMEZONE
TZID:America/New_York
BEGIN:DAYLIGHT
TZOFFSETFROM:-0500
TZOFFSETTO:-0400
TZNAME:EDT
DTSTART:20220313T070000
END:DAYLIGHT
BEGIN:STANDARD
TZOFFSETFROM:-0400
TZOFFSETTO:-0500
TZNAME:EST
DTSTART:20221106T060000
END:STANDARD
BEGIN:DAYLIGHT
TZOFFSETFROM:-0500
TZOFFSETTO:-0400
TZNAME:EDT
DTSTART:20230312T070000
END:DAYLIGHT
BEGIN:STANDARD
TZOFFSETFROM:-0400
TZOFFSETTO:-0500
TZNAME:EST
DTSTART:20231105T060000
END:STANDARD
BEGIN:DAYLIGHT
TZOFFSETFROM:-0500
TZOFFSETTO:-0400
TZNAME:EDT
DTSTART:20240310T070000
END:DAYLIGHT
BEGIN:STANDARD
TZOFFSETFROM:-0400
TZOFFSETTO:-0500
TZNAME:EST
DTSTART:20241103T060000
END:STANDARD
END:VTIMEZONE
BEGIN:VEVENT
DTSTART;TZID=America/New_York:20230715T120000
DTEND;TZID=America/New_York:20230715T140000
DTSTAMP:20260422T144030
CREATED:20230626T172450Z
LAST-MODIFIED:20230626T172450Z
UID:6909-1689422400-1689429600@brauerinstitute.com
SUMMARY:Art Opening: Blossom Into Being
DESCRIPTION:You are invited: \nJuly 5 – September 7 \nPublic Reception \nSat\, Jul 15\, 2023 12:00 pm – 2:00 pm \nOil Paintings by Dorit Brauer \nDorit Brauer’s vibrantly colored oils invite the viewer to dive into the world of the inner self with her collection of paintings titled\, Blossom into Being in the West Gallery.  She refers to them as her ‘love letter to life’\, allowing each thought\, memory\, place\, emotion\, or melody to come together through color to form a ‘tapestry of life’. \nPrior to painting\, she meditates to reach a higher level of consciousness\, which was explored in a British research study about art and extra sensory perception in 2023 for which Brauer is a contributing artist. \nBrauer studied painting at the Avni Art Institute in Tel Aviv-Jaffo\, Israel (1989-1993)\, exhibiting early works in Israel and Germany.  Her career continued to build in the United States with solo\, group and juried exhibits\, earning recurrent appearances at the Hoyt\, Stifel Fine Arts Center at Oglebay Institute and an Award of Excellence at the Manhattan Arts International Healing Power of Color exhibition in 2019.  In recent years\, Brauer has led Artist Residencies at Nemacolin Resort\, in Farmington\, PA \nSoul Song I\, oil on canvas\, 30 x 30 inches
URL:https://brauerinstitute.com/event/art-opening-blossom-into-being/
LOCATION:Hoyt Art Center\, 124 East Leasure Ave\, New Castle\, PA\, 16101\, United States
CATEGORIES:Art Exhibit
ATTACH;FMTTYPE=image/jpeg:https://brauerinstitute.com/wp-content/uploads/2023/06/5A2498-copy.jpeg
ORGANIZER;CN="Dorit Brauer":MAILTO:dorit@doritbrauer.com
END:VEVENT
END:VCALENDAR