BEGIN:VCALENDAR
VERSION:2.0
PRODID:-//The Brauer Institute for Holistic Medicine - ECPv6.15.20//NONSGML v1.0//EN
CALSCALE:GREGORIAN
METHOD:PUBLISH
X-ORIGINAL-URL:https://brauerinstitute.com
X-WR-CALDESC:Events for The Brauer Institute for Holistic Medicine
REFRESH-INTERVAL;VALUE=DURATION:PT1H
X-Robots-Tag:noindex
X-PUBLISHED-TTL:PT1H
BEGIN:VTIMEZONE
TZID:America/New_York
BEGIN:DAYLIGHT
TZOFFSETFROM:-0500
TZOFFSETTO:-0400
TZNAME:EDT
DTSTART:20230312T070000
END:DAYLIGHT
BEGIN:STANDARD
TZOFFSETFROM:-0400
TZOFFSETTO:-0500
TZNAME:EST
DTSTART:20231105T060000
END:STANDARD
BEGIN:DAYLIGHT
TZOFFSETFROM:-0500
TZOFFSETTO:-0400
TZNAME:EDT
DTSTART:20240310T070000
END:DAYLIGHT
BEGIN:STANDARD
TZOFFSETFROM:-0400
TZOFFSETTO:-0500
TZNAME:EST
DTSTART:20241103T060000
END:STANDARD
BEGIN:DAYLIGHT
TZOFFSETFROM:-0500
TZOFFSETTO:-0400
TZNAME:EDT
DTSTART:20250309T070000
END:DAYLIGHT
BEGIN:STANDARD
TZOFFSETFROM:-0400
TZOFFSETTO:-0500
TZNAME:EST
DTSTART:20251102T060000
END:STANDARD
END:VTIMEZONE
BEGIN:VEVENT
DTSTART;TZID=America/New_York:20240504T100000
DTEND;TZID=America/New_York:20240504T150000
DTSTAMP:20260421T195323
CREATED:20240318T205150Z
LAST-MODIFIED:20240318T205150Z
UID:7592-1714816800-1714834800@brauerinstitute.com
SUMMARY:Happy May Open House
DESCRIPTION:Invitation to the Happy May Open House\nDiscover the Healing Power of Art\nBring Joy and Playfulness into your Life with Dorit’s Fine Art and Fine Art Jewelry. \nJoin the Holiday Open House on Saturday 5/4 from 10 am – 3 pm. \n \nDorit will have her original paintings on display in addition to unique gift items inspired by her artwork and Fine Art Jewelry. \nShoppers will also have the opportunity to order commissioned work. Hope to see you then! \nPlease RSVP.\n \nView more available works in the Fine Art Gallery and the Fine Art Jewelry Catalog. \nEnjoy the Solo Exhibition video of the Blossom Into Being Paintings at the Hoyt. These vibrant oil paintings are \nDorit’s ‘love letter to life’\, allowing each thought\, memory\, place\, emotion\, or melody to come together through color to form a ‘tapestry of life’. \nBring magic and beauty into your home with an original Dorit Brauer oil painting. \n \n 
URL:https://brauerinstitute.com/event/happy-may-open-house/
LOCATION:Dorit’s Studio\, Carnegie\, PA\, 15106\, United States
CATEGORIES:Happy May Open House
ATTACH;FMTTYPE=image/jpeg:https://brauerinstitute.com/wp-content/uploads/2024/03/Open-House-1-scaled.jpeg
ORGANIZER;CN="Dorit Brauer":MAILTO:dorit@doritbrauer.com
END:VEVENT
END:VCALENDAR