BEGIN:VCALENDAR
VERSION:2.0
PRODID:-//The Brauer Institute for Holistic Medicine - ECPv6.15.20//NONSGML v1.0//EN
CALSCALE:GREGORIAN
METHOD:PUBLISH
X-WR-CALNAME:The Brauer Institute for Holistic Medicine
X-ORIGINAL-URL:https://brauerinstitute.com
X-WR-CALDESC:Events for The Brauer Institute for Holistic Medicine
REFRESH-INTERVAL;VALUE=DURATION:PT1H
X-Robots-Tag:noindex
X-PUBLISHED-TTL:PT1H
BEGIN:VTIMEZONE
TZID:America/New_York
BEGIN:DAYLIGHT
TZOFFSETFROM:-0500
TZOFFSETTO:-0400
TZNAME:EDT
DTSTART:20180311T070000
END:DAYLIGHT
BEGIN:STANDARD
TZOFFSETFROM:-0400
TZOFFSETTO:-0500
TZNAME:EST
DTSTART:20181104T060000
END:STANDARD
BEGIN:DAYLIGHT
TZOFFSETFROM:-0500
TZOFFSETTO:-0400
TZNAME:EDT
DTSTART:20190310T070000
END:DAYLIGHT
BEGIN:STANDARD
TZOFFSETFROM:-0400
TZOFFSETTO:-0500
TZNAME:EST
DTSTART:20191103T060000
END:STANDARD
BEGIN:DAYLIGHT
TZOFFSETFROM:-0500
TZOFFSETTO:-0400
TZNAME:EDT
DTSTART:20200308T070000
END:DAYLIGHT
BEGIN:STANDARD
TZOFFSETFROM:-0400
TZOFFSETTO:-0500
TZNAME:EST
DTSTART:20201101T060000
END:STANDARD
BEGIN:DAYLIGHT
TZOFFSETFROM:-0500
TZOFFSETTO:-0400
TZNAME:EDT
DTSTART:20210314T070000
END:DAYLIGHT
BEGIN:STANDARD
TZOFFSETFROM:-0400
TZOFFSETTO:-0500
TZNAME:EST
DTSTART:20211107T060000
END:STANDARD
BEGIN:DAYLIGHT
TZOFFSETFROM:-0500
TZOFFSETTO:-0400
TZNAME:EDT
DTSTART:20220313T070000
END:DAYLIGHT
BEGIN:STANDARD
TZOFFSETFROM:-0400
TZOFFSETTO:-0500
TZNAME:EST
DTSTART:20221106T060000
END:STANDARD
BEGIN:DAYLIGHT
TZOFFSETFROM:-0500
TZOFFSETTO:-0400
TZNAME:EDT
DTSTART:20230312T070000
END:DAYLIGHT
BEGIN:STANDARD
TZOFFSETFROM:-0400
TZOFFSETTO:-0500
TZNAME:EST
DTSTART:20231105T060000
END:STANDARD
END:VTIMEZONE
BEGIN:VEVENT
DTSTART;TZID=America/New_York:20221018T170000
DTEND;TZID=America/New_York:20221018T210000
DTSTAMP:20260420T001942
CREATED:20220531T235425Z
LAST-MODIFIED:20220723T175827Z
UID:6255-1666112400-1666126800@brauerinstitute.com
SUMMARY:Professional Holistic Reflexology Certification Program
DESCRIPTION:Embark on a fulfilling career path in the fast growing field of Holistic Medicine!\nEnrollment for the 2022/2023 Holistic Reflexology Certification Program has begun. \n300 Hours – 200 class room hours\, 100 home study hours \nDorit Brauer brings the most comprehensive knowledge of Holistic Reflexology from Israel to the US. \n \nProgram Content:\n\nThe Holistic View of the World\nBasic Principles of Holistic Foot Reflexology\nRequirements for the Holistic Reflexologist\nAnatomy of the Bodily Systems\nEnergy Medicine\nMapping the Feet\nRelaxation & Stress Reduction Techniques\nHands-on-Study\nCase Studies\nSpecific Applications: Holistic Reflexology for chronic pain\, migraine headaches\, digestive disorders\, PMS\, hypertension\, allergies\, insomnia\, depression\, sinus problems\, stress\, menopause\, fibromyalgia\, infertility\, plantar fasciitis and more.\nPatient Intake\nFoot-Analysis\nThe Ancestral Connection\nReading the Feet\nThe Individual Treatment Plan\nPrecautions & Ethics\n\nStarting Tuesday October 18. 2022 from 5 – 9 pm for 50 lessons\nLocation: Carnegie\, PA\nLearn about the Holistic Approach. Please read the following articles: \nCourse Content \nHolistic Reflexology\, Ancestral Strength & the Power of Strong Roots \nListen to the Language of your Organs \nThe Excitement of Practicing Reflexology and its Results  \nCertification Testimonials \nCall Dorit Brauer for details and student requirements: 412 – 925 – 0812
URL:https://brauerinstitute.com/event/reflexology-certification-pgh/
LOCATION:Dorit’s Studio\, Carnegie\, PA\, 15106\, United States
CATEGORIES:Course
ATTACH;FMTTYPE=image/jpeg:https://brauerinstitute.com/wp-content/uploads/2020/03/fullsizeoutput_2adb-scaled-e1583162187564.jpeg
ORGANIZER;CN="Dorit Brauer":MAILTO:dorit@doritbrauer.com
END:VEVENT
BEGIN:VEVENT
DTSTART;TZID=America/New_York:20210908T160000
DTEND;TZID=America/New_York:20210908T200000
DTSTAMP:20260420T001942
CREATED:20210701T152725Z
LAST-MODIFIED:20210701T172605Z
UID:5195-1631116800-1631131200@brauerinstitute.com
SUMMARY:Professional Holistic Reflexology Certification Program
DESCRIPTION:Embark on a fulfilling career path in the fast growing field of Holistic Medicine!\nEnrollment for the 2021/2022 Holistic Reflexology Certification Program has begun. \n300 Hours – 200 class room hours\, 100 home study hours \nDorit Brauer brings the most comprehensive knowledge of Holistic Reflexology from Israel to the US. \nProgram Content:\n\nThe Holistic View of the World\nBasic Principles of Holistic Foot Reflexology\nRequirements for the Holistic Reflexologist\nAnatomy of the Bodily Systems\nEnergy Medicine\nMapping the Feet\nRelaxation & Stress Reduction Techniques\nHands-on-Study\nCase Studies\nSpecific Applications: Holistic Reflexology for chronic pain\, migraine headaches\, digestive disorders\, PMS\, hypertension\, allergies\, insomnia\, depression\, sinus problems\, stress\, menopause\, fibromyalgia\, infertility\, plantar fasciitis and more.\nPatient Intake\nFoot-Analysis\nThe Ancestral Connection\nReading the Feet\nThe Individual Treatment Plan\nPrecautions & Ethics\n\nStarting September 8. 2021 from 4 – 8 pm for 50 lessons\nLocation: Scott Township PA\nLearn about the Holistic Approach. Please read the following articles: \nCourse Content \nHolistic Reflexology\, Ancestral Strength & the Power of Strong Roots \nListen to the Language of your Organs \nThe Excitement of Practicing Reflexology and its Results  \nCertification Testimonials \nCall Dorit Brauer for details and student requirements\, in order to be accepted into this Certification Program: 412 – 925 – 0812
URL:https://brauerinstitute.com/event/reflexology-certification-2021/
LOCATION:Dorit’s Studio\, Carnegie\, PA\, 15106\, United States
CATEGORIES:Course
ATTACH;FMTTYPE=image/jpeg:https://brauerinstitute.com/wp-content/uploads/2020/03/fullsizeoutput_2adb-scaled-e1583162187564.jpeg
ORGANIZER;CN="Dorit Brauer":MAILTO:dorit@doritbrauer.com
END:VEVENT
BEGIN:VEVENT
DTSTART;TZID=America/New_York:20200324T190000
DTEND;TZID=America/New_York:20200526T203000
DTSTAMP:20260420T001942
CREATED:20200124T005252Z
LAST-MODIFIED:20200501T183319Z
UID:3231-1585076400-1590525000@brauerinstitute.com
SUMMARY:Online Course: MANIFEST YOUR DESTINY
DESCRIPTION:online: 10-Week Kabbalah Meditation Course\nYou are invited to join a 10-week exploration of the Kabbalistic Tree of Life. The wisdom of Kabbalah is the wisdom to receive. The Kabbalistic Tree of Life is a Roadmap to Enlightenment. \n\nExperience the power of the 10 spheres\, the forces that govern the world\nLearn to live consciously\nFind your purpose\nBecome the creator of your reality\nStrengthen and trust your intuitive perception\nDevelop your sixth sense\nLearn to create absolute harmony and interconnectedness\nEnter a level of existence where you experience eternity and perfection\nCreate miracles in your life\n\nComprehensive class material will be e-mailed following each lesson for your at home study.\nPlease be inspired by the testimonials and see how this course will benefit you! \nStudents who completed Dorit’s 8-week meditation classes at the Center for Integrative Medicine at UPMC and at Highmark Blue Cross Blue Shield experienced the following benefits: \n\n75% improved sleep\n74% decreased pain\n82% improved concentration and energy level\n92% decreased anxiety\n100% improved well-being and ability to cope with stress\n\nClasses take place every Tuesday starting March 24. to May 26. 2020\nfrom 7 – 8:30 pm EST\n  \nOnline\nVia Zoom Invitation upon receiving your payment. \n$ 210 USD \n\n\n\n\n\n  \nE-mail Dorit at dorit@doritbrauer.com or call 412 – 925 – 0812 for more info.
URL:https://brauerinstitute.com/event/manifest-your-destiny/
LOCATION:PA\, United States
CATEGORIES:Course
ATTACH;FMTTYPE=image/jpeg:https://brauerinstitute.com/wp-content/uploads/2019/09/IMG_6121.jpg
ORGANIZER;CN="Dorit Brauer":MAILTO:dorit@doritbrauer.com
END:VEVENT
BEGIN:VEVENT
DTSTART;TZID=America/New_York:20191030T180000
DTEND;TZID=America/New_York:20191030T220000
DTSTAMP:20260420T001942
CREATED:20190922T164303Z
LAST-MODIFIED:20200118T183001Z
UID:2700-1572458400-1572472800@brauerinstitute.com
SUMMARY:200-Hours Meditation Teacher & Sound Healer Certification Program
DESCRIPTION:200-Hours Meditation Teacher & Sound Healer Certification Program \n160 classroom hours \n40 home study hours \n-Learn to play the Quartz Crystal Singing Bowls\, a tool for Sound Healing and Deep Relaxation. \n-Learn 50 different Guided Imagery Meditations promoting Health\, Healing\, Well-Being\, Living your Best Life\, Beautiful Communication and so much more. \n-Learn teaching Dorit Brauer’s signature workshops and classes: \nChakra Balancing \nCleansing & Purification \nShamanic Manifesting \nSolarplexus Strength \nThe 4-week Open Your Heart Course \nThe 10-week Happiness Course \n-Learn facilitating three Labyrinth Walking Meditations. \n-Learn to facilitate individual and group sound healing sessions and how to improve participants’ health and well-being through sound and vibration. \n-Learn the key components of Energy Medicine. \n-Learn to share your Bliss. Live your Best Life. \nCheck out a Sound Healing Meditation  \nClass Time: Wednesday evenings once a week for 40 lessons\, 5 – 9 pm. \nStart Date: Wednesday\, October 30\, 2019 \nLocation: Dorit’s Studio\, Scott Township\, Pennsylvania \nCall Dorit for Details and Registration 412 – 925 – 0812
URL:https://brauerinstitute.com/event/meditation-teacher-certification/
LOCATION:Dorit’s Studio\, Carnegie\, PA\, 15106\, United States
CATEGORIES:Course
ATTACH;FMTTYPE=image/jpeg:https://brauerinstitute.com/wp-content/uploads/2019/09/IMG_6121.jpg
ORGANIZER;CN="Dorit Brauer":MAILTO:dorit@doritbrauer.com
END:VEVENT
END:VCALENDAR